Package: MsDataHub Version: 1.10.0 Command: /home/biocbuild/R/R/bin/R CMD build --keep-empty-dirs --no-resave-data MsDataHub StartedAt: 2025-11-21 04:12:41 -0000 (Fri, 21 Nov 2025) EndedAt: 2025-11-21 04:18:02 -0000 (Fri, 21 Nov 2025) EllapsedTime: 321.1 seconds RetCode: 0 Status: OK PackageFile: MsDataHub_1.10.0.tar.gz PackageFileSize: 468.8 KiB