Package: MsDataHub Version: 1.10.0 Command: /home/biocbuild/bbs-3.22-bioc/R/bin/R CMD check --install=check:MsDataHub.install-out.txt --library=/home/biocbuild/bbs-3.22-bioc/R/site-library --timings MsDataHub_1.10.0.tar.gz StartedAt: 2025-11-14 01:55:44 -0500 (Fri, 14 Nov 2025) EndedAt: 2025-11-14 02:01:05 -0500 (Fri, 14 Nov 2025) EllapsedTime: 321.3 seconds RetCode: 0 Status: OK CheckDir: MsDataHub.Rcheck Warnings: 0