Package: MsDataHub Version: 1.8.0 Command: /home/biocbuild/bbs-3.21-bioc/R/bin/R CMD INSTALL MsDataHub StartedAt: 2025-10-15 15:25:58 -0400 (Wed, 15 Oct 2025) EndedAt: 2025-10-15 15:26:12 -0400 (Wed, 15 Oct 2025) EllapsedTime: 13.7 seconds RetCode: 0 Status: OK