Package: MsDataHub Version: 1.8.0 Command: /home/biocbuild/bbs-3.21-bioc/R/bin/R CMD build --keep-empty-dirs --no-resave-data MsDataHub StartedAt: 2025-10-15 18:42:36 -0400 (Wed, 15 Oct 2025) EndedAt: 2025-10-15 18:43:09 -0400 (Wed, 15 Oct 2025) EllapsedTime: 33.0 seconds RetCode: 1 Status: ERROR PackageFile: None PackageFileSize: NA