Package: MsDataHub Version: 1.10.0 Command: /Library/Frameworks/R.framework/Resources/bin/R CMD INSTALL MsDataHub StartedAt: 2025-10-31 15:31:48 -0400 (Fri, 31 Oct 2025) EndedAt: 2025-10-31 15:32:06 -0400 (Fri, 31 Oct 2025) EllapsedTime: 18.3 seconds RetCode: 0 Status: OK