Package: MsDataHub Version: 1.8.0 Command: /Library/Frameworks/R.framework/Resources/bin/R CMD INSTALL MsDataHub StartedAt: 2025-10-13 15:48:24 -0400 (Mon, 13 Oct 2025) EndedAt: 2025-10-13 15:48:41 -0400 (Mon, 13 Oct 2025) EllapsedTime: 16.7 seconds RetCode: 0 Status: OK