Package: MsDataHub Version: 1.8.0 Command: /Library/Frameworks/R.framework/Resources/bin/R CMD build --keep-empty-dirs --no-resave-data MsDataHub StartedAt: 2025-10-14 05:05:54 -0400 (Tue, 14 Oct 2025) EndedAt: 2025-10-14 05:11:12 -0400 (Tue, 14 Oct 2025) EllapsedTime: 317.5 seconds RetCode: 0 Status: OK PackageFile: MsDataHub_1.8.0.tar.gz PackageFileSize: 372.3 KiB