Package: MsCoreUtils Version: 1.22.0 Command: /home/biocbuild/R/R/bin/R CMD INSTALL MsCoreUtils StartedAt: 2025-11-10 21:18:58 -0000 (Mon, 10 Nov 2025) EndedAt: 2025-11-10 21:19:09 -0000 (Mon, 10 Nov 2025) EllapsedTime: 10.4 seconds RetCode: 0 Status: OK