Package: MsCoreUtils Version: 1.22.0 Command: /home/biocbuild/R/R/bin/R CMD check --install=check:MsCoreUtils.install-out.txt --library=/home/biocbuild/R/R/site-library --no-vignettes --timings MsCoreUtils_1.22.0.tar.gz StartedAt: 2025-11-11 12:06:54 -0000 (Tue, 11 Nov 2025) EndedAt: 2025-11-11 12:08:31 -0000 (Tue, 11 Nov 2025) EllapsedTime: 97.1 seconds RetCode: 1 Status: ERROR CheckDir: MsCoreUtils.Rcheck Warnings: NA