Package: MsCoreUtils Version: 1.22.0 Command: /home/biocbuild/bbs-3.22-bioc/R/bin/R CMD INSTALL MsCoreUtils StartedAt: 2025-11-11 15:17:36 -0500 (Tue, 11 Nov 2025) EndedAt: 2025-11-11 15:17:42 -0500 (Tue, 11 Nov 2025) EllapsedTime: 6.4 seconds RetCode: 0 Status: OK