Package: MsCoreUtils Version: 1.20.0 Command: /home/biocbuild/bbs-3.21-bioc/R/bin/R CMD build --keep-empty-dirs --no-resave-data MsCoreUtils StartedAt: 2025-09-28 18:55:03 -0400 (Sun, 28 Sep 2025) EndedAt: 2025-09-28 18:55:14 -0400 (Sun, 28 Sep 2025) EllapsedTime: 11.0 seconds RetCode: 0 Status: OK PackageFile: MsCoreUtils_1.20.0.tar.gz PackageFileSize: 414.3 KiB