Package: MsBackendSql Version: 1.10.1 Command: /home/biocbuild/R/R/bin/R CMD INSTALL MsBackendSql StartedAt: 2025-11-10 21:20:40 -0000 (Mon, 10 Nov 2025) EndedAt: 2025-11-10 21:21:00 -0000 (Mon, 10 Nov 2025) EllapsedTime: 20.3 seconds RetCode: 0 Status: OK