Package: MsBackendSql Version: 1.10.1 Command: /home/biocbuild/R/R/bin/R CMD build --keep-empty-dirs --no-resave-data MsBackendSql StartedAt: 2025-11-11 03:31:51 -0000 (Tue, 11 Nov 2025) EndedAt: 2025-11-11 03:33:04 -0000 (Tue, 11 Nov 2025) EllapsedTime: 73.0 seconds RetCode: 0 Status: OK PackageFile: MsBackendSql_1.10.1.tar.gz PackageFileSize: 414.3 KiB