Package: MsBackendSql Version: 1.10.1 Command: /home/biocbuild/bbs-3.22-bioc/R/bin/R CMD check --install=check:MsBackendSql.install-out.txt --library=/home/biocbuild/bbs-3.22-bioc/R/site-library --timings MsBackendSql_1.10.1.tar.gz StartedAt: 2025-11-12 01:51:19 -0500 (Wed, 12 Nov 2025) EndedAt: 2025-11-12 01:57:05 -0500 (Wed, 12 Nov 2025) EllapsedTime: 346.3 seconds RetCode: 0 Status: OK CheckDir: MsBackendSql.Rcheck Warnings: 0