Package: MsBackendSql Version: 1.8.0 Command: /Library/Frameworks/R.framework/Resources/bin/R CMD build --keep-empty-dirs --no-resave-data MsBackendSql StartedAt: 2025-09-25 20:53:15 -0400 (Thu, 25 Sep 2025) EndedAt: 2025-09-25 20:55:28 -0400 (Thu, 25 Sep 2025) EllapsedTime: 133.7 seconds RetCode: 0 Status: OK PackageFile: MsBackendSql_1.8.0.tar.gz PackageFileSize: 340.8 KiB