Package: MsBackendRawFileReader Version: 1.16.0 Command: /home/biocbuild/R/R/bin/R CMD build --keep-empty-dirs --no-resave-data MsBackendRawFileReader StartedAt: 2025-11-11 03:31:46 -0000 (Tue, 11 Nov 2025) EndedAt: 2025-11-11 03:32:19 -0000 (Tue, 11 Nov 2025) EllapsedTime: 33.0 seconds RetCode: 1 Status: ERROR PackageFile: None PackageFileSize: NA