Package: MsBackendRawFileReader Version: 1.14.0 Command: E:\biocbuild\bbs-3.21-bioc\R\bin\R.exe CMD check --no-multiarch --install=check:MsBackendRawFileReader.install-out.txt --library=E:\biocbuild\bbs-3.21-bioc\R\library --no-vignettes --timings MsBackendRawFileReader_1.14.0.tar.gz StartedAt: 2025-08-15 04:30:52 -0400 (Fri, 15 Aug 2025) EndedAt: 2025-08-15 04:36:50 -0400 (Fri, 15 Aug 2025) EllapsedTime: 357.5 seconds RetCode: 0 Status: OK CheckDir: MsBackendRawFileReader.Rcheck Warnings: 0