Package: MsBackendMsp Version: 1.14.0 Command: /home/biocbuild/R/R/bin/R CMD INSTALL MsBackendMsp StartedAt: 2025-11-10 21:20:45 -0000 (Mon, 10 Nov 2025) EndedAt: 2025-11-10 21:20:58 -0000 (Mon, 10 Nov 2025) EllapsedTime: 12.2 seconds RetCode: 0 Status: OK