Package: MsBackendMsp Version: 1.14.0 Command: /home/biocbuild/R/R/bin/R CMD build --keep-empty-dirs --no-resave-data MsBackendMsp StartedAt: 2025-11-11 03:31:45 -0000 (Tue, 11 Nov 2025) EndedAt: 2025-11-11 03:32:06 -0000 (Tue, 11 Nov 2025) EllapsedTime: 21.0 seconds RetCode: 0 Status: OK PackageFile: MsBackendMsp_1.14.0.tar.gz PackageFileSize: 391.5 KiB