Package: MsBackendMsp Version: 1.14.0 Command: /home/biocbuild/bbs-3.22-bioc/R/bin/R CMD INSTALL MsBackendMsp StartedAt: 2025-11-11 15:18:49 -0500 (Tue, 11 Nov 2025) EndedAt: 2025-11-11 15:18:58 -0500 (Tue, 11 Nov 2025) EllapsedTime: 9.3 seconds RetCode: 0 Status: OK