Package: MsBackendMsp Version: 1.14.0 Command: /home/biocbuild/bbs-3.22-bioc/R/bin/R CMD check --install=check:MsBackendMsp.install-out.txt --library=/home/biocbuild/bbs-3.22-bioc/R/site-library --timings MsBackendMsp_1.14.0.tar.gz StartedAt: 2025-11-12 01:51:01 -0500 (Wed, 12 Nov 2025) EndedAt: 2025-11-12 01:52:23 -0500 (Wed, 12 Nov 2025) EllapsedTime: 82.1 seconds RetCode: 0 Status: OK CheckDir: MsBackendMsp.Rcheck Warnings: 0