Package: MsBackendMsp Version: 1.14.0 Command: /home/biocbuild/bbs-3.22-bioc/R/bin/R CMD build --keep-empty-dirs --no-resave-data --md5 MsBackendMsp StartedAt: 2025-11-11 18:57:56 -0500 (Tue, 11 Nov 2025) EndedAt: 2025-11-11 18:58:13 -0500 (Tue, 11 Nov 2025) EllapsedTime: 16.0 seconds RetCode: 0 Status: OK PackageFile: MsBackendMsp_1.14.0.tar.gz PackageFileSize: 325.4 KiB