Package: MsBackendMsp Version: 1.12.0 Command: /home/biocbuild/R/R/bin/R CMD check --install=check:MsBackendMsp.install-out.txt --library=/home/biocbuild/R/R/site-library --no-vignettes --timings MsBackendMsp_1.12.0.tar.gz StartedAt: 2025-10-14 11:36:50 -0000 (Tue, 14 Oct 2025) EndedAt: 2025-10-14 11:38:28 -0000 (Tue, 14 Oct 2025) EllapsedTime: 98.1 seconds RetCode: 0 Status: OK CheckDir: MsBackendMsp.Rcheck Warnings: 0