Package: MsBackendMsp Version: 1.14.0 Command: /Library/Frameworks/R.framework/Resources/bin/R CMD check --install=check:MsBackendMsp.install-out.txt --library=/Library/Frameworks/R.framework/Resources/library --no-vignettes --timings MsBackendMsp_1.14.0.tar.gz StartedAt: 2025-11-22 13:37:20 -0500 (Sat, 22 Nov 2025) EndedAt: 2025-11-22 13:39:23 -0500 (Sat, 22 Nov 2025) EllapsedTime: 122.5 seconds RetCode: 0 Status: OK CheckDir: MsBackendMsp.Rcheck Warnings: 0