Package: MsBackendMgf Version: 1.18.0 Command: /home/biocbuild/R/R/bin/R CMD INSTALL MsBackendMgf StartedAt: 2025-11-17 21:20:53 -0000 (Mon, 17 Nov 2025) EndedAt: 2025-11-17 21:21:06 -0000 (Mon, 17 Nov 2025) EllapsedTime: 12.9 seconds RetCode: 0 Status: OK