Package: MsBackendMgf Version: 1.18.0 Command: /home/biocbuild/bbs-3.22-bioc/R/bin/R CMD INSTALL MsBackendMgf StartedAt: 2025-11-11 15:18:56 -0500 (Tue, 11 Nov 2025) EndedAt: 2025-11-11 15:19:05 -0500 (Tue, 11 Nov 2025) EllapsedTime: 8.7 seconds RetCode: 0 Status: OK