Package: MsBackendMgf Version: 1.18.0 Command: /home/biocbuild/bbs-3.22-bioc/R/bin/R CMD check --install=check:MsBackendMgf.install-out.txt --library=/home/biocbuild/bbs-3.22-bioc/R/site-library --timings MsBackendMgf_1.18.0.tar.gz StartedAt: 2025-11-12 01:51:00 -0500 (Wed, 12 Nov 2025) EndedAt: 2025-11-12 01:52:21 -0500 (Wed, 12 Nov 2025) EllapsedTime: 81.1 seconds RetCode: 0 Status: OK CheckDir: MsBackendMgf.Rcheck Warnings: 0