Package: MsBackendMgf Version: 1.18.0 Command: /home/biocbuild/bbs-3.22-bioc/R/bin/R CMD build --keep-empty-dirs --no-resave-data --md5 MsBackendMgf StartedAt: 2025-11-11 18:57:40 -0500 (Tue, 11 Nov 2025) EndedAt: 2025-11-11 18:57:58 -0500 (Tue, 11 Nov 2025) EllapsedTime: 17.0 seconds RetCode: 0 Status: OK PackageFile: MsBackendMgf_1.18.0.tar.gz PackageFileSize: 336.3 KiB