Package: MsBackendMgf Version: 1.16.0 Command: /Library/Frameworks/R.framework/Resources/bin/R CMD INSTALL MsBackendMgf StartedAt: 2025-10-13 15:40:27 -0400 (Mon, 13 Oct 2025) EndedAt: 2025-10-13 15:40:39 -0400 (Mon, 13 Oct 2025) EllapsedTime: 11.3 seconds RetCode: 0 Status: OK