Package: MsBackendMgf Version: 1.16.0 Command: /Library/Frameworks/R.framework/Resources/bin/R CMD build --keep-empty-dirs --no-resave-data MsBackendMgf StartedAt: 2025-10-14 05:05:09 -0400 (Tue, 14 Oct 2025) EndedAt: 2025-10-14 05:05:33 -0400 (Tue, 14 Oct 2025) EllapsedTime: 23.9 seconds RetCode: 0 Status: OK PackageFile: MsBackendMgf_1.16.0.tar.gz PackageFileSize: 335.6 KiB