Package: MsBackendMgf Version: 1.16.0 Command: rm -rf MsBackendMgf.buildbin-libdir && mkdir MsBackendMgf.buildbin-libdir && /Users/biocbuild/BBS/utils/build-universal.sh MsBackendMgf_1.16.0.tar.gz /Library/Frameworks/R.framework/Resources/bin/R MsBackendMgf.buildbin-libdir StartedAt: 2025-10-15 19:28:39 -0400 (Wed, 15 Oct 2025) EndedAt: 2025-10-15 19:28:53 -0400 (Wed, 15 Oct 2025) EllapsedTime: 13.7 seconds RetCode: 0 Status: OK PackageFile: MsBackendMgf_1.16.0.tgz PackageFileSize: 382.9 KiB