Package: MsBackendMetaboLights Version: 1.4.2 Command: /home/biocbuild/R/R/bin/R CMD build --keep-empty-dirs --no-resave-data MsBackendMetaboLights StartedAt: 2025-11-11 03:31:43 -0000 (Tue, 11 Nov 2025) EndedAt: 2025-11-11 03:33:11 -0000 (Tue, 11 Nov 2025) EllapsedTime: 88.0 seconds RetCode: 0 Status: OK PackageFile: MsBackendMetaboLights_1.4.2.tar.gz PackageFileSize: 377.7 KiB