Package: MsBackendMetaboLights Version: 1.4.2 Command: /home/biocbuild/bbs-3.22-bioc/R/bin/R CMD INSTALL MsBackendMetaboLights StartedAt: 2025-11-11 15:18:46 -0500 (Tue, 11 Nov 2025) EndedAt: 2025-11-11 15:18:59 -0500 (Tue, 11 Nov 2025) EllapsedTime: 13.3 seconds RetCode: 0 Status: OK