Package: MsBackendMetaboLights Version: 1.4.2 Command: /home/biocbuild/bbs-3.22-bioc/R/bin/R CMD check --install=check:MsBackendMetaboLights.install-out.txt --library=/home/biocbuild/bbs-3.22-bioc/R/site-library --timings MsBackendMetaboLights_1.4.2.tar.gz StartedAt: 2025-11-12 01:50:58 -0500 (Wed, 12 Nov 2025) EndedAt: 2025-11-12 02:05:17 -0500 (Wed, 12 Nov 2025) EllapsedTime: 859.0 seconds RetCode: 0 Status: OK CheckDir: MsBackendMetaboLights.Rcheck Warnings: 0