Package: MsBackendMetaboLights Version: 1.4.2 Command: /home/biocbuild/bbs-3.22-bioc/R/bin/R CMD build --keep-empty-dirs --no-resave-data --md5 MsBackendMetaboLights StartedAt: 2025-11-11 18:57:37 -0500 (Tue, 11 Nov 2025) EndedAt: 2025-11-11 18:58:43 -0500 (Tue, 11 Nov 2025) EllapsedTime: 65.0 seconds RetCode: 0 Status: OK PackageFile: MsBackendMetaboLights_1.4.2.tar.gz PackageFileSize: 311.4 KiB