Package: MsBackendMetaboLights Version: 1.2.0 Command: /Library/Frameworks/R.framework/Resources/bin/R CMD INSTALL MsBackendMetaboLights StartedAt: 2025-10-02 15:25:01 -0400 (Thu, 02 Oct 2025) EndedAt: 2025-10-02 15:25:27 -0400 (Thu, 02 Oct 2025) EllapsedTime: 26.1 seconds RetCode: 0 Status: OK