Package: MsBackendMetaboLights Version: 1.2.0 Command: /Library/Frameworks/R.framework/Resources/bin/R CMD build --keep-empty-dirs --no-resave-data MsBackendMetaboLights StartedAt: 2025-10-02 20:53:28 -0400 (Thu, 02 Oct 2025) EndedAt: 2025-10-02 20:54:58 -0400 (Thu, 02 Oct 2025) EllapsedTime: 89.5 seconds RetCode: 0 Status: OK PackageFile: MsBackendMetaboLights_1.2.0.tar.gz PackageFileSize: 310.2 KiB