Package: MsBackendMetaboLights Version: 1.2.0 Command: rm -rf MsBackendMetaboLights.buildbin-libdir && mkdir MsBackendMetaboLights.buildbin-libdir && /Users/biocbuild/BBS/utils/build-universal.sh MsBackendMetaboLights_1.2.0.tar.gz /Library/Frameworks/R.framework/Resources/bin/R MsBackendMetaboLights.buildbin-libdir StartedAt: 2025-10-03 13:52:40 -0400 (Fri, 03 Oct 2025) EndedAt: 2025-10-03 13:53:28 -0400 (Fri, 03 Oct 2025) EllapsedTime: 48.4 seconds RetCode: 0 Status: OK PackageFile: MsBackendMetaboLights_1.2.0.tgz PackageFileSize: 351.6 KiB