Package: MsBackendMassbank Version: 1.18.0 Command: /home/biocbuild/R/R/bin/R CMD INSTALL MsBackendMassbank StartedAt: 2025-11-17 21:20:55 -0000 (Mon, 17 Nov 2025) EndedAt: 2025-11-17 21:21:10 -0000 (Mon, 17 Nov 2025) EllapsedTime: 14.8 seconds RetCode: 0 Status: OK