Package: MsBackendMassbank Version: 1.18.0 Command: /home/biocbuild/R/R/bin/R CMD build --keep-empty-dirs --no-resave-data MsBackendMassbank StartedAt: 2025-11-18 03:25:10 -0000 (Tue, 18 Nov 2025) EndedAt: 2025-11-18 03:25:37 -0000 (Tue, 18 Nov 2025) EllapsedTime: 27.0 seconds RetCode: 0 Status: OK PackageFile: MsBackendMassbank_1.18.0.tar.gz PackageFileSize: 465.9 KiB