Package: MsBackendMassbank Version: 1.18.0 Command: /home/biocbuild/bbs-3.22-bioc/R/bin/R CMD check --install=check:MsBackendMassbank.install-out.txt --library=/home/biocbuild/bbs-3.22-bioc/R/site-library --timings MsBackendMassbank_1.18.0.tar.gz StartedAt: 2025-11-12 01:50:10 -0500 (Wed, 12 Nov 2025) EndedAt: 2025-11-12 01:51:52 -0500 (Wed, 12 Nov 2025) EllapsedTime: 102.1 seconds RetCode: 0 Status: OK CheckDir: MsBackendMassbank.Rcheck Warnings: 0