Package: MsBackendMassbank Version: 1.18.0 Command: /home/biocbuild/bbs-3.22-bioc/R/bin/R CMD build --keep-empty-dirs --no-resave-data --md5 MsBackendMassbank StartedAt: 2025-11-11 18:57:36 -0500 (Tue, 11 Nov 2025) EndedAt: 2025-11-11 18:57:56 -0500 (Tue, 11 Nov 2025) EllapsedTime: 20.0 seconds RetCode: 0 Status: OK PackageFile: MsBackendMassbank_1.18.0.tar.gz PackageFileSize: 416.7 KiB