Package: MsBackendMassbank Version: 1.16.1 Command: /home/biocbuild/bbs-3.21-bioc/R/bin/R CMD INSTALL MsBackendMassbank StartedAt: 2025-10-12 15:14:13 -0400 (Sun, 12 Oct 2025) EndedAt: 2025-10-12 15:14:25 -0400 (Sun, 12 Oct 2025) EllapsedTime: 11.7 seconds RetCode: 0 Status: OK