Package: MsBackendMassbank Version: 1.16.1 Command: /home/biocbuild/bbs-3.21-bioc/R/bin/R CMD build --keep-empty-dirs --no-resave-data MsBackendMassbank StartedAt: 2025-10-12 18:41:47 -0400 (Sun, 12 Oct 2025) EndedAt: 2025-10-12 18:42:09 -0400 (Sun, 12 Oct 2025) EllapsedTime: 21.0 seconds RetCode: 0 Status: OK PackageFile: MsBackendMassbank_1.16.1.tar.gz PackageFileSize: 415.2 KiB