Package: MsBackendMassbank Version: 1.16.1 Command: /Library/Frameworks/R.framework/Resources/bin/R CMD INSTALL MsBackendMassbank StartedAt: 2025-10-13 15:40:30 -0400 (Mon, 13 Oct 2025) EndedAt: 2025-10-13 15:40:43 -0400 (Mon, 13 Oct 2025) EllapsedTime: 12.8 seconds RetCode: 0 Status: OK