Package: MsBackendMassbank Version: 1.16.1 Command: /Library/Frameworks/R.framework/Resources/bin/R CMD build --keep-empty-dirs --no-resave-data MsBackendMassbank StartedAt: 2025-10-14 05:04:51 -0400 (Tue, 14 Oct 2025) EndedAt: 2025-10-14 05:05:17 -0400 (Tue, 14 Oct 2025) EllapsedTime: 26.2 seconds RetCode: 0 Status: OK PackageFile: MsBackendMassbank_1.16.1.tar.gz PackageFileSize: 421 KiB