Package: MsBackendMassbank Version: 1.16.1 Command: rm -rf MsBackendMassbank.buildbin-libdir && mkdir MsBackendMassbank.buildbin-libdir && /Users/biocbuild/BBS/utils/build-universal.sh MsBackendMassbank_1.16.1.tar.gz /Library/Frameworks/R.framework/Resources/bin/R MsBackendMassbank.buildbin-libdir StartedAt: 2025-10-15 19:28:15 -0400 (Wed, 15 Oct 2025) EndedAt: 2025-10-15 19:28:31 -0400 (Wed, 15 Oct 2025) EllapsedTime: 15.8 seconds RetCode: 0 Status: OK PackageFile: MsBackendMassbank_1.16.1.tgz PackageFileSize: 632.5 KiB