Package: MouseFM Version: 1.20.0 Command: /home/biocbuild/bbs-3.22-bioc/R/bin/R CMD build --keep-empty-dirs --no-resave-data --md5 MouseFM StartedAt: 2025-11-11 18:56:34 -0500 (Tue, 11 Nov 2025) EndedAt: 2025-11-11 18:57:28 -0500 (Tue, 11 Nov 2025) EllapsedTime: 54.0 seconds RetCode: 0 Status: OK PackageFile: MouseFM_1.20.0.tar.gz PackageFileSize: 774.7 KiB