Package: MouseFM Version: 1.18.0 Command: /home/biocbuild/bbs-3.21-bioc/R/bin/R CMD build --keep-empty-dirs --no-resave-data MouseFM StartedAt: 2025-10-15 18:40:54 -0400 (Wed, 15 Oct 2025) EndedAt: 2025-10-15 18:41:41 -0400 (Wed, 15 Oct 2025) EllapsedTime: 47.0 seconds RetCode: 0 Status: OK PackageFile: MouseFM_1.18.0.tar.gz PackageFileSize: 773 KiB