Package: MouseFM Version: 1.18.0 Command: /home/biocbuild/R/R/bin/R CMD INSTALL MouseFM StartedAt: 2025-09-29 21:06:59 -0000 (Mon, 29 Sep 2025) EndedAt: 2025-09-29 21:07:23 -0000 (Mon, 29 Sep 2025) EllapsedTime: 23.6 seconds RetCode: 0 Status: OK